BEGIN:VCALENDAR
VERSION:2.0
PRODID:spatie/icalendar-generator
DESCRIPTION:Events from North Street United Church
X-WR-CALDESC:Events from North Street United Church
REFRESH-INTERVAL;VALUE=DURATION:PT1440M
X-PUBLISHED-TTL:PT1440M
BEGIN:VTIMEZONE
TZID:America/Jamaica
BEGIN:STANDARD
DTSTART:20250820T170000Z
TZOFFSETFROM:-0500
TZOFFSETTO:-0500
END:STANDARD
END:VTIMEZONE
BEGIN:VTIMEZONE
TZID:UTC
BEGIN:STANDARD
DTSTART:20250723T192230Z
TZOFFSETFROM:+0000
TZOFFSETTO:+0000
END:STANDARD
END:VTIMEZONE
BEGIN:VEVENT
UID:1765-9
DTSTAMP:20260419T192230Z
SUMMARY:Young Adults Meeting
LOCATION:
ORGANIZER;CN=nsucadmin:MAILTO:admin@nsunited.org
RRULE:FREQ=MONTHLY;BYDAY=3SU;COUNT=0
DTSTART;TZID=America/Jamaica:20260517T170000
DTEND;TZID=America/Jamaica:20260517T190000
X-ALT-DESC;FMTTYPE=TEXT/HTML:
CATEGORIES:Young Adult
URL;VALUE=URI:https://ele.nsunited.org/mc-events/young-adults-meeting/?mc_i
 d=1765
END:VEVENT
END:VCALENDAR